BEGIN:VCALENDAR
VERSION:2.0
PRODID:-//hacksw/handcal//NONSGML v1.0//EN
BEGIN:VEVENT
SUMMARY:CDC VETERAN
UID:368a8223-2e97-40b9-a162-ff2066523d2e
DTSTART:20260409T123000Z
DTEND:20260409T170000Z
LOCATION:Localisation   
CATEGORIES:Sportif
STATUS:
URL;VALUE=URI:https://petanquetoisondor.sportsregions.fr/evenements/2026/04/09/cdc-veteran-2425670
END:VEVENT
END:VCALENDAR
