BEGIN:VCALENDAR
VERSION:2.0
PRODID:-//hacksw/handcal//NONSGML v1.0//EN
BEGIN:VEVENT
SUMMARY:CDC VETERAN
UID:5b4e74f8-afbf-499b-b7d2-e7fda4ceb7d0
DTSTART:20260402T123000Z
DTEND:20260402T170000Z
LOCATION:Localisation   
CATEGORIES:Sportif
STATUS:
URL;VALUE=URI:https://petanquetoisondor.sportsregions.fr/evenements/2026/04/02/cdc-veteran-2425669
END:VEVENT
END:VCALENDAR
