BEGIN:VCALENDAR
VERSION:2.0
PRODID:-//hacksw/handcal//NONSGML v1.0//EN
BEGIN:VEVENT
SUMMARY:CDC VETERAN
UID:00495606-40fe-4f7f-88c5-90fbcd934602
DTSTART:20260312T133000Z
DTEND:20260312T180000Z
LOCATION:Localisation   
CATEGORIES:Sportif
STATUS:
URL;VALUE=URI:https://petanquetoisondor.sportsregions.fr/evenements/2026/03/12/cdc-veteran-2425675
END:VEVENT
END:VCALENDAR
